BEGIN:VCALENDAR
VERSION:2.0
METHOD:PUBLISH
CALSCALE:GREGORIAN
PRODID:-//WordPress - MECv7.28.0//EN
X-ORIGINAL-URL:https://frauensportverein-schneisingen.ch/
X-WR-CALNAME:FSV Schneisingen
X-WR-CALDESC:Sportverein in Schneisingen
X-WR-TIMEZONE:Europe/Berlin
BEGIN:VTIMEZONE
TZID:Europe/Berlin
X-LIC-LOCATION:Europe/Berlin
BEGIN:DAYLIGHT
TZOFFSETFROM:+0100
TZOFFSETTO:+0200
TZNAME:CEST
DTSTART:20260329T030000
RRULE:FREQ=YEARLY;BYMONTH=03;BYDAY=-1SU
END:DAYLIGHT
BEGIN:STANDARD
TZOFFSETFROM:+0200
TZOFFSETTO:+0100
TZNAME:CET
DTSTART:20261025T020000
RRULE:FREQ=YEARLY;BYMONTH=10;BYDAY=4SU
END:STANDARD
END:VTIMEZONE
REFRESH-INTERVAL;VALUE=DURATION:PT1H
X-PUBLISHED-TTL:PT1H
X-MS-OLK-FORCEINSPECTOROPEN:TRUE
BEGIN:VEVENT
CLASS:PUBLIC
UID:MEC-d860bd12ce9c026814bbdfc1c573f0f5@frauensportverein-schneisingen.ch
DTSTART;TZID=Europe/Berlin:20260427T191500
DURATION:PT1H
DTSTAMP:20250531T091138Z
RDATE;TZID=Europe/Berlin:20250818T191500,20260427T191500,20260504T191500,20260518T191500,20260601T191500,20260615T191500,20260622T191500
CREATED:20250531
LAST-MODIFIED:20260425
PRIORITY:5
SEQUENCE:12
TRANSP:OPAQUE
SUMMARY:Pilates
DESCRIPTION:Pilates, das hört sich nach Hollywood an.\nZiel ist die Kräftigung des Körpers vom Zentrum aus. Atemtechnik, Gleichgewicht, kleine Challenges und vorallem mega Spass in Dorothee’s Lektionen 🙂
URL:https://frauensportverein-schneisingen.ch/events/pilates/
ORGANIZER;CN=FSV Schneisingen:MAILTO:info@frauensportverein-schneisingen.ch
CATEGORIES:Pilates
LOCATION:Schladstrasse 21, Schneisingen
END:VEVENT
BEGIN:VEVENT
CLASS:PUBLIC
UID:MEC-db957c626a8cd7a27231adfbf51e20eb@frauensportverein-schneisingen.ch
DTSTART;TZID=Europe/Berlin:20260428T180000
DTEND;TZID=Europe/Berlin:20260428T190000
DTSTAMP:20250531T091441Z
RRULE:FREQ=WEEKLY;UNTIL=20260331T170000Z
CREATED:20250531
LAST-MODIFIED:20260203
PRIORITY:5
SEQUENCE:11
TRANSP:OPAQUE
SUMMARY:JUGI Knaben klein
DESCRIPTION:
URL:https://frauensportverein-schneisingen.ch/events/jugi-knaben-klein/
ORGANIZER;CN=FSV Schneisingen:MAILTO:info@frauensportverein-schneisingen.ch
CATEGORIES:Jugendsport Knaben
LOCATION:Schladstrasse 21, Schneisingen
END:VEVENT
BEGIN:VEVENT
CLASS:PUBLIC
UID:MEC-ecd62de20ea67e1c2d933d311b08178a@frauensportverein-schneisingen.ch
DTSTART;TZID=Europe/Berlin:20260428T190000
DTEND;TZID=Europe/Berlin:20260428T200000
DTSTAMP:20250531T091606Z
RRULE:FREQ=WEEKLY;UNTIL=20260331T180000Z
CREATED:20250531
LAST-MODIFIED:20260203
PRIORITY:5
SEQUENCE:9
TRANSP:OPAQUE
SUMMARY:JUGI Knaben gross
DESCRIPTION:
URL:https://frauensportverein-schneisingen.ch/events/jugi-knaben-gross/
ORGANIZER;CN=FSV Schneisingen:MAILTO:info@frauensportverein-schneisingen.ch
CATEGORIES:Jugendsport Knaben
LOCATION:Schladstrasse 21, Schneisingen
END:VEVENT
BEGIN:VEVENT
CLASS:PUBLIC
UID:MEC-052335232b11864986bb2fa20fa38748@frauensportverein-schneisingen.ch
DTSTART;TZID=Europe/Berlin:20260429T144500
DTEND;TZID=Europe/Berlin:20260429T154500
DTSTAMP:20250531T110135Z
RRULE:FREQ=WEEKLY;UNTIL=20260401T134500Z
EXDATE:20260204T134500Z
CREATED:20250531
LAST-MODIFIED:20260203
PRIORITY:5
SEQUENCE:8
TRANSP:OPAQUE
SUMMARY:Bewegung
DESCRIPTION:
URL:https://frauensportverein-schneisingen.ch/events/bewegung/
ORGANIZER;CN=FSV Schneisingen:MAILTO:info@frauensportverein-schneisingen.ch
CATEGORIES:Bewegung
LOCATION:Schladstrasse 21, Schneisingen
END:VEVENT
BEGIN:VEVENT
CLASS:PUBLIC
UID:MEC-bf201d5407a6509fa536afc4b380577e@frauensportverein-schneisingen.ch
DTSTART;TZID=Europe/Berlin:20260429T160000
DTEND;TZID=Europe/Berlin:20260429T170000
DTSTAMP:20250531T110039Z
RRULE:FREQ=WEEKLY;UNTIL=20260401T150000Z
CREATED:20250531
LAST-MODIFIED:20260203
PRIORITY:5
SEQUENCE:8
TRANSP:OPAQUE
SUMMARY:Gymfit
DESCRIPTION:
URL:https://frauensportverein-schneisingen.ch/events/gymfit/
ORGANIZER;CN=FSV Schneisingen:MAILTO:info@frauensportverein-schneisingen.ch
CATEGORIES:Gymfit
LOCATION:Schladstrasse 21, Schneisingen
END:VEVENT
BEGIN:VEVENT
CLASS:PUBLIC
UID:MEC-393c55aea738548df743a186d15f3bef@frauensportverein-schneisingen.ch
DTSTART;TZID=Europe/Berlin:20260430T173000
DTEND;TZID=Europe/Berlin:20260430T183000
DTSTAMP:20250530T222450Z
RRULE:FREQ=WEEKLY;UNTIL=20260702T163000Z
EXDATE:20260402T153000Z
CREATED:20250530
LAST-MODIFIED:20260425
PRIORITY:5
SEQUENCE:13
TRANSP:OPAQUE
SUMMARY:JUGI Mädchen klein
DESCRIPTION:JUGI für 1. – 3. Klässlerinnen
URL:https://frauensportverein-schneisingen.ch/events/jugi-maedchen-klein/
ORGANIZER;CN=FSV Schneisingen:MAILTO:info@frauensportverein-schneisingen.ch
CATEGORIES:Jugendsport Mädchen
LOCATION:Schladstrasse 21, Schneisingen
END:VEVENT
BEGIN:VEVENT
CLASS:PUBLIC
UID:MEC-6449f44a102fde848669bdd9eb6b76fa@frauensportverein-schneisingen.ch
DTSTART;TZID=Europe/Berlin:20260430T183000
DTEND;TZID=Europe/Berlin:20260430T193000
DTSTAMP:20250530T222548Z
RRULE:FREQ=WEEKLY;UNTIL=20260402T173000Z
EXDATE:20260402T163000Z
CREATED:20250530
LAST-MODIFIED:20260316
PRIORITY:5
SEQUENCE:12
TRANSP:OPAQUE
SUMMARY:JUGI Mädchen gross
DESCRIPTION:
URL:https://frauensportverein-schneisingen.ch/events/jugi-maedchen-gross/
ORGANIZER;CN=FSV Schneisingen:MAILTO:info@frauensportverein-schneisingen.ch
CATEGORIES:Jugendsport Mädchen
LOCATION:Schladstrasse 21, Schneisingen
END:VEVENT
BEGIN:VEVENT
CLASS:PUBLIC
UID:MEC-e4dd5528f7596dcdf871aa55cfccc53c@frauensportverein-schneisingen.ch
DTSTART;TZID=Europe/Berlin:20260430T193000
DURATION:PT1H
DTSTAMP:20251012T143421Z
RDATE;TZID=Europe/Berlin:20251016T193000,20260430T193000,20260618T193000,20260702T193000
CREATED:20251012
LAST-MODIFIED:20260425
PRIORITY:5
SEQUENCE:5
TRANSP:OPAQUE
SUMMARY:Zumba
DESCRIPTION:Volle Power Stunde mit Julia\n
URL:https://frauensportverein-schneisingen.ch/events/zumba/
ORGANIZER;CN=FSV Schneisingen:MAILTO:info@frauensportverein-schneisingen.ch
CATEGORIES:Barre Movement,Stretch &amp; Relax,Yoga,Zumba
LOCATION:Schladstrasse 21, Schneisingen
END:VEVENT
BEGIN:VEVENT
CLASS:PUBLIC
UID:MEC-3c947bc2f7ff007b86a9428b74654de5@frauensportverein-schneisingen.ch
DTSTART;TZID=Europe/Berlin:20260507T193000
DURATION:PT1H
DTSTAMP:20250603T210450Z
RDATE;TZID=Europe/Berlin:20250821T193000,20260219T193000,20260226T193000,20260319T193000,20260327T193000,20260402T193000
CREATED:20250603
LAST-MODIFIED:20260316
PRIORITY:5
SEQUENCE:7
TRANSP:OPAQUE
SUMMARY:Barre Movement
DESCRIPTION:
URL:https://frauensportverein-schneisingen.ch/events/barre-movement/
ORGANIZER;CN=FSV Schneisingen:MAILTO:info@frauensportverein-schneisingen.ch
CATEGORIES:Barre Movement,Stretch &amp; Relax,Yoga,Zumba
LOCATION:Schladstrasse 21, Schneisingen
END:VEVENT
BEGIN:VEVENT
CLASS:PUBLIC
UID:MEC-365d17770080c807a0e47ae9118d8641@frauensportverein-schneisingen.ch
DTSTART;TZID=Europe/Berlin:20260425T114145
DTEND;TZID=Europe/Berlin:20260425T114145
DTSTAMP:20250530T221958Z
RRULE:FREQ=WEEKLY;UNTIL=20260330T181500Z
EXDATE:20260202T181500Z,20260316T181500Z
CREATED:20250530
LAST-MODIFIED:20260316
PRIORITY:5
SEQUENCE:17
TRANSP:OPAQUE
SUMMARY:Footsteps
DESCRIPTION:
URL:https://frauensportverein-schneisingen.ch/events/footsteps/
ORGANIZER;CN=FSV Schneisingen:MAILTO:info@frauensportverein-schneisingen.ch
CATEGORIES:Footsteps
LOCATION:Schladstrasse 21, Schneisingen
END:VEVENT
BEGIN:VEVENT
CLASS:PUBLIC
UID:MEC-414e773d5b7e5c06d564f594bf6384d0@frauensportverein-schneisingen.ch
DTSTART;TZID=Europe/Berlin:20260511T191500
DTEND;TZID=Europe/Berlin:20260511T201500
DTSTAMP:20250807T164446Z
CREATED:20250807
LAST-MODIFIED:20260425
PRIORITY:5
SEQUENCE:2
TRANSP:OPAQUE
SUMMARY:Sport by Caroline
DESCRIPTION:
URL:https://frauensportverein-schneisingen.ch/events/sport-by-caroline/
ORGANIZER;CN=FSV Schneisingen:MAILTO:info@frauensportverein-schneisingen.ch
CATEGORIES:Pilates,Zumba
LOCATION:Schladstrasse 21, Schneisingen
END:VEVENT
BEGIN:VEVENT
CLASS:PUBLIC
UID:MEC-d7657583058394c828ee150fada65345@frauensportverein-schneisingen.ch
DTSTART;TZID=Europe/Berlin:20260513T170000
DURATION:PT3H
DTSTAMP:20250602T101233Z
RDATE;TZID=Europe/Berlin:20260513T170000,20270505T170000,20280524T170000
CREATED:20250602
LAST-MODIFIED:20260110
PRIORITY:5
SEQUENCE:5
TRANSP:OPAQUE
SUMMARY:UBS Kids Cup
DESCRIPTION:
URL:https://frauensportverein-schneisingen.ch/events/ubs-kids-cup/
ORGANIZER;CN=KTV Zurzach:MAILTO:
CATEGORIES:Jugendsport
LOCATION:Chilbert, Döttingen
END:VEVENT
BEGIN:VEVENT
CLASS:PUBLIC
UID:MEC-c366c2c97d47b02b24c3ecade4c40a01@frauensportverein-schneisingen.ch
DTSTART;TZID=Europe/Berlin:20260608T191500
DURATION:PT1H
DTSTAMP:20250616T091956Z
RDATE;TZID=Europe/Berlin:20250811T191500,20260209T191500,20260212T193000,20260305T193000,20260309T191500
CREATED:20250616
LAST-MODIFIED:20260203
PRIORITY:5
SEQUENCE:10
TRANSP:OPAQUE
SUMMARY:Sport by Bea
DESCRIPTION:
URL:https://frauensportverein-schneisingen.ch/events/sport-by-bea/
ORGANIZER;CN=FSV Schneisingen:MAILTO:info@frauensportverein-schneisingen.ch
CATEGORIES:Barre Movement,Footsteps,Pilates
LOCATION:Schladstrasse 21, Schneisingen
END:VEVENT
BEGIN:VEVENT
CLASS:PUBLIC
UID:MEC-59e0b2658e9f2e77f8d4d83f8d07ca84@frauensportverein-schneisingen.ch
DTSTART;TZID=Europe/Berlin:20260619T190000
DURATION:PT3H
DTSTAMP:20250531T111123Z
RDATE;TZID=Europe/Berlin:20260313T190000,20260619T190000,20260911T190000,20261218T190000
CREATED:20250531
LAST-MODIFIED:20260117
PRIORITY:5
SEQUENCE:4
TRANSP:OPAQUE
SUMMARY:Sport- und Spieleabend
DESCRIPTION:Zusammen mit dem Jugendraum Team öffnen wir die Turnhalle/Sportanlage und lassen Mädchen und Jungen frei spielen. Was gespielt wird, wird unter sich ausgemacht.\nWer nicht spielen möchte oder gerade keine Lust hat, auf das was läuft, kann auch zu Musik, Snacks und Drinks mit Kolleginnen und Kollegen chillen.\nBei Fragen oder wenn du Ideen hast, was man an dem Abend noch so machen kann, melde dich bei uns:\n\nWhatsApp (Janick Lehmann) ( https://wa.me/41798591346 )\ninfo@frauensportverein-schneisingen.ch ( mailto:info@frauensportverein-schneisingen.ch )\nBetreuerinnen und Betreuer im Jugendraum\n\nWir freuen uns, wenn du vorbeischaust!\n
URL:https://frauensportverein-schneisingen.ch/events/sport-und-spieleabend/
ORGANIZER;CN=FSV Schneisingen:MAILTO:info@frauensportverein-schneisingen.ch
CATEGORIES:Jugendsport
LOCATION:Schladstrasse 21, Schneisingen
END:VEVENT
BEGIN:VEVENT
CLASS:PUBLIC
UID:MEC-a96d3afec184766bfeca7a9f989fc7e7@frauensportverein-schneisingen.ch
DTSTART;TZID=Europe/Berlin:20260624T000000
DTEND;TZID=Europe/Berlin:20260625T000000
DTSTAMP:20260302T192138Z
CREATED:20260302
LAST-MODIFIED:20260302
PRIORITY:5
SEQUENCE:1
TRANSP:OPAQUE
SUMMARY:Turnerinnenreise
DESCRIPTION:Eine Reise ins Grüne.\n
URL:https://frauensportverein-schneisingen.ch/events/turnerinnenreise/
ORGANIZER;CN=FSV Schneisingen:MAILTO:info@frauensportverein-schneisingen.ch
CATEGORIES:Bewegung,Gymfit
END:VEVENT
BEGIN:VEVENT
CLASS:PUBLIC
UID:MEC-8c3039bd5842dca3d944faab91447818@frauensportverein-schneisingen.ch
DTSTART;TZID=Europe/Berlin:20260706T170000
DTEND;TZID=Europe/Berlin:20260706T233000
DTSTAMP:20250602T122602Z
CREATED:20250602
LAST-MODIFIED:20260324
PRIORITY:5
SEQUENCE:4
TRANSP:OPAQUE
SUMMARY:Handwerkerfest
DESCRIPTION:Das Handwerkerfest ist der perfekte Ort für alle Gewerbler in und um Schneisingen, den Feierabend ausklingen zu lassen.\nBei gemütlicher Stimmung gibt es Getränke, Feines vom Grill und leckere Desserts.\nWir bitten das Gewerbe oder grössere Gruppen sich mit dem online Anmeldeformular bis 22.06.2026 anzumelden.\nDer Flyer folgt.\n
URL:https://frauensportverein-schneisingen.ch/events/handwerkerfest/
ORGANIZER;CN=FSV Schneisingen:MAILTO:info@frauensportverein-schneisingen.ch
CATEGORIES:Barre Movement,Bewegung,Footsteps,Gymfit,Pilates,Stretch &amp; Relax,Volleyball Mixed,Yoga
LOCATION:Schladstrasse 21, Schneisingen
END:VEVENT
BEGIN:VEVENT
CLASS:PUBLIC
UID:MEC-df4fe8a8bcd5c95cdb640aa9793bb32b@frauensportverein-schneisingen.ch
DTSTART;TZID=Europe/Berlin:20260801T100000
DTEND;TZID=Europe/Berlin:20260801T140000
DTSTAMP:20260302T192758Z
CREATED:20260302
LAST-MODIFIED:20260302
PRIORITY:5
SEQUENCE:1
TRANSP:OPAQUE
SUMMARY:Bundesfeier Brunch
DESCRIPTION:Der FSV Schneisingen organisiert den Brunch am 1. August beim Schulhaus.\nWir freuen uns auf euren Besuch!\n
URL:https://frauensportverein-schneisingen.ch/events/bundesfeier-brunch/
ORGANIZER;CN=FSV Schneisingen:MAILTO:info@frauensportverein-schneisingen.ch
CATEGORIES:Barre Movement,Bewegung,Eltern-Kind-Turnen,Footsteps,Gymfit,Jugendsport,Pilates,Stretch &amp; Relax,Volleyball Mixed,Yoga,Zumba
END:VEVENT
BEGIN:VEVENT
CLASS:PUBLIC
UID:MEC-a3545bd79d31f9a72d3a78690adf73fc@frauensportverein-schneisingen.ch
DTSTART;TZID=Europe/Berlin:20260822T070000
DTEND;TZID=Europe/Berlin:20260823T180000
DTSTAMP:20250603T212304Z
CREATED:20250603
LAST-MODIFIED:20260302
PRIORITY:5
SEQUENCE:2
TRANSP:OPAQUE
SUMMARY:Zweitägige Vereinsreise
DESCRIPTION:Die Vereinsreise wird uns dieses Jahr ins Appenzellerland.\n
URL:https://frauensportverein-schneisingen.ch/events/zweitaegige-vereinsreise/
ORGANIZER;CN=FSV Schneisingen:MAILTO:info@frauensportverein-schneisingen.ch
CATEGORIES:Barre Movement,Footsteps,Pilates,Stretch &amp; Relax,Volleyball Mixed,Yoga
END:VEVENT
BEGIN:VEVENT
CLASS:PUBLIC
UID:MEC-2eace51d8f796d04991c831a07059758@frauensportverein-schneisingen.ch
DTSTART;TZID=Europe/Berlin:20260909T130000
DTEND;TZID=Europe/Berlin:20260909T180000
DTSTAMP:20260302T193154Z
CREATED:20260302
LAST-MODIFIED:20260302
PRIORITY:5
SEQUENCE:3
TRANSP:OPAQUE
SUMMARY:Herbstbummel
DESCRIPTION:
URL:https://frauensportverein-schneisingen.ch/events/herbstbummel/
ORGANIZER;CN=FSV Schneisingen:MAILTO:info@frauensportverein-schneisingen.ch
CATEGORIES:Bewegung,Gymfit
END:VEVENT
BEGIN:VEVENT
CLASS:PUBLIC
UID:MEC-f8c0c968632845cd133308b1a494967f@frauensportverein-schneisingen.ch
DTSTART;TZID=Europe/Berlin:20261128T140000
DTEND;TZID=Europe/Berlin:20261128T210000
DTSTAMP:20260302T193513Z
CREATED:20260302
LAST-MODIFIED:20260302
PRIORITY:5
SEQUENCE:1
TRANSP:OPAQUE
SUMMARY:Weihnachtsmarkt
DESCRIPTION:
URL:https://frauensportverein-schneisingen.ch/events/weihnachtsmarkt/
ORGANIZER;CN=FSV Schneisingen:MAILTO:info@frauensportverein-schneisingen.ch
CATEGORIES:Barre Movement,Bewegung,Footsteps,Gymfit,Pilates,Stretch &amp; Relax,Volleyball Mixed,Yoga,Zumba
LOCATION:Schladstrasse 21, Schneisingen
END:VEVENT
BEGIN:VEVENT
CLASS:PUBLIC
UID:MEC-52dbb0686f8bd0c0c757acf716e28ec0@frauensportverein-schneisingen.ch
DTSTART;TZID=Europe/Berlin:20270110T000000
DTEND;TZID=Europe/Berlin:20270111T000000
DTSTAMP:20260302T193814Z
CREATED:20260302
LAST-MODIFIED:20260302
PRIORITY:5
SEQUENCE:1
TRANSP:OPAQUE
SUMMARY:Wintermarsch
DESCRIPTION:Der Wintermarsch des Kreisturnverbands Zurzach wird von den Kollegen der Männerriege durchgeführt.\n
URL:https://frauensportverein-schneisingen.ch/events/wintermarsch/
ORGANIZER;CN=MR Schneisingen:MAILTO:
CATEGORIES:Barre Movement,Bewegung,Eltern-Kind-Turnen,Footsteps,Gymfit,Jugendsport,Pilates,Stretch &amp; Relax,Volleyball Mixed,Yoga,Zumba
LOCATION:Schladstrasse 21, Schneisingen
END:VEVENT
BEGIN:VEVENT
CLASS:PUBLIC
UID:MEC-85f007f8c50dd25f5a45fca73cad64bd@frauensportverein-schneisingen.ch
DTSTART;TZID=Europe/Berlin:20270226T190000
DURATION:PT4H
DTSTAMP:20250601T223041Z
RDATE;TZID=Europe/Berlin:20260227T190000,20270226T190000,20280225T190000,20290223T190000
CREATED:20250601
LAST-MODIFIED:20260104
PRIORITY:5
SEQUENCE:4
TRANSP:OPAQUE
SUMMARY:Generalversammlung
DESCRIPTION:Gemäss Einladung, Unterlagen online verfügbar.\n
URL:https://frauensportverein-schneisingen.ch/events/generalversammlung/
ORGANIZER;CN=FSV Schneisingen:MAILTO:info@frauensportverein-schneisingen.ch
CATEGORIES:Barre Movement,Bewegung,Footsteps,Gymfit,Pilates,Stretch &amp; Relax,Volleyball Mixed,Yoga,Zumba
LOCATION:Schladstrasse 21, Schneisingen
END:VEVENT
END:VCALENDAR
